BEGIN:VCALENDAR
VERSION:2.0
PRODID:-//Nomad Events Info - ECPv6.15.20//NONSGML v1.0//EN
CALSCALE:GREGORIAN
METHOD:PUBLISH
X-ORIGINAL-URL:https://nomadevents.info
X-WR-CALDESC:Events for Nomad Events Info
REFRESH-INTERVAL;VALUE=DURATION:PT1H
X-Robots-Tag:noindex
X-PUBLISHED-TTL:PT1H
BEGIN:VTIMEZONE
TZID:America/Denver
BEGIN:DAYLIGHT
TZOFFSETFROM:-0700
TZOFFSETTO:-0600
TZNAME:MDT
DTSTART:20200308T090000
END:DAYLIGHT
BEGIN:STANDARD
TZOFFSETFROM:-0600
TZOFFSETTO:-0700
TZNAME:MST
DTSTART:20201101T080000
END:STANDARD
BEGIN:DAYLIGHT
TZOFFSETFROM:-0700
TZOFFSETTO:-0600
TZNAME:MDT
DTSTART:20210314T090000
END:DAYLIGHT
BEGIN:STANDARD
TZOFFSETFROM:-0600
TZOFFSETTO:-0700
TZNAME:MST
DTSTART:20211107T080000
END:STANDARD
BEGIN:DAYLIGHT
TZOFFSETFROM:-0700
TZOFFSETTO:-0600
TZNAME:MDT
DTSTART:20220313T090000
END:DAYLIGHT
BEGIN:STANDARD
TZOFFSETFROM:-0600
TZOFFSETTO:-0700
TZNAME:MST
DTSTART:20221106T080000
END:STANDARD
BEGIN:DAYLIGHT
TZOFFSETFROM:-0700
TZOFFSETTO:-0600
TZNAME:MDT
DTSTART:20230312T090000
END:DAYLIGHT
BEGIN:STANDARD
TZOFFSETFROM:-0600
TZOFFSETTO:-0700
TZNAME:MST
DTSTART:20231105T080000
END:STANDARD
BEGIN:DAYLIGHT
TZOFFSETFROM:-0700
TZOFFSETTO:-0600
TZNAME:MDT
DTSTART:20240310T090000
END:DAYLIGHT
BEGIN:STANDARD
TZOFFSETFROM:-0600
TZOFFSETTO:-0700
TZNAME:MST
DTSTART:20241103T080000
END:STANDARD
END:VTIMEZONE
BEGIN:VEVENT
DTSTART;VALUE=DATE:20230526
DTEND;VALUE=DATE:20230530
DTSTAMP:20260424T153716
CREATED:20220902T033641Z
LAST-MODIFIED:20220912T025359Z
UID:258-1685059200-1685404799@nomadevents.info
SUMMARY:Descend on Lost Sierra - CA
DESCRIPTION:DESCEND ON LOST SIERRA\nTime to go yonder. \nFri May 26\, 2023 12:00 PM – Mon May 29\, 2023 10:00 AM PDT\nhttps://www.descendon.com/ \n\n\nPRIVATE CAMP LAND ACCESS IN CALIFORNIA’S LOST SIERRA \n\n\n\n\nLUXURY AMENITIES INCLUDE PORTA POTTIES\, HAND WASHING STATIONS\, AND RELATIVELY LEVEL GROUND TO PARK YOUR RIG \n\n\nLIVE MUSIC & LIVE HUMANS\, BEING \n\n\nDAILY MAKER’S MARKET \n\n\nMORNING YOGA LED BY DR. MOLLOY \n\n\nCOFFEE & AFFOGATO OFFERINGS BY AUTOBAHN COFFEE \n\n\nEACH ATTENDEE 16+\, MUST HAVE THEIR OWN TICKET FOR ENTRY. KIDS 15 AND UNDER FREE. \nCome as you are\, sleep where you will\, get your fill. \n\n\n\nAll tickets are nonrefundable\, fully transferable.  \n\n\nLost Sierra\, CA\n39°47’24.9″N 120°23’28.7″W
URL:https://nomadevents.info/event/descend-on-lost-sierra-ca/
LOCATION:Lost Sierra\, Lost Sierra\, CA
CATEGORIES:West
ORGANIZER;CN="Descend On":MAILTO:hello@descendonbend.com
END:VEVENT
BEGIN:VEVENT
DTSTART;VALUE=DATE:20221202
DTEND;VALUE=DATE:20221216
DTSTAMP:20260424T153716
CREATED:20220902T033044Z
LAST-MODIFIED:20220912T025615Z
UID:254-1669939200-1671148799@nomadevents.info
SUMMARY:Boondocking Bash - CA
DESCRIPTION:ANNOUNCEMENT\nThis year’s group Meetup the boondocking Bash is being moved and we won’t be having it in Quartzsite this year we will be having this at slab City\nI know a lot of you have always wanted to visit slab City but haven’t made it for one reason or another this might be the best opportunity to go as part of a group\nThe dates will be December 2nd through 15th and I will create an event tab here on the page and in the main group where I will add details as all of this comes together \nBoondocking & Free Camping USA
URL:https://nomadevents.info/event/boondocking-bash-ca/
CATEGORIES:West
END:VEVENT
BEGIN:VEVENT
DTSTART;VALUE=DATE:20220926
DTEND;VALUE=DATE:20220929
DTSTAMP:20260424T153716
CREATED:20220902T031200Z
LAST-MODIFIED:20220912T030858Z
UID:248-1664150400-1664409599@nomadevents.info
SUMMARY:Nomad Lifestyle - CA
DESCRIPTION:Nomad Lifestyle Oceanside California \nSEP 26 AT 9 AM – SEP 28 AT 9 AM MDT\n\nNOMAD LIFESTYLE MEETUP\n\nOceanside North Jetty\n\n\nJoin us for a casual day or overnight meeting of like-minded people as we enjoy the beach in Oceanside.\nMonday we will meet in the cabana on the beach for the Meet & Greet at 4:00pm and then there will be free time to explore the beautiful Harbor Village with shops and restaurants\, boat rentals\, and just lazing on the beach. If you like to walk or run this is a very scenic area.\nOn Tuesday\, you can explore the beautiful beaches or walk to the Harbor Village. No need to drive anywhere\, it is all here.\nWednesday\, another group is coming in\, so check-out is before 8am.\nOceanside is the perfect place for us to meet. It has a day-use parking lot for $10.00 all-day (8am-8pm) or add a stay the night for $20.00 (8pm-8am). *** You can buy a two day pass for $50.00 and save $10.00. It is first-come\, first-serve hence\, the reason we are planning a weekday get-together because year-round the weekends get crowded. It is dry camping with toilets nearby. It is just a parking spot but it is on the beach which makes it divine.
URL:https://nomadevents.info/event/nomad-lifestyle-ca/
CATEGORIES:West
END:VEVENT
BEGIN:VEVENT
DTSTART;VALUE=DATE:20220917
DTEND;VALUE=DATE:20220919
DTSTAMP:20260424T153716
CREATED:20220903T010032Z
LAST-MODIFIED:20220903T010258Z
UID:287-1663372800-1663545599@nomadevents.info
SUMMARY:Adventure Van Expo - North Tahoe Lake\, CA
DESCRIPTION:North Lake Tahoe\, CA\nSaturday and Sunday\, Sept. 17-18\, 2022\nSaturday: 10 a.m. to 5 p.m.\nSunday: 10 a.m. to 3 p.m. \nWe are in a high fire danger – charcoal and gas BBQs\, stoves and firepits of any kind are not allowed. This is a no-smoking venue. \nJoin us for a family friendly weekend open to all ages celebrating the van life community and the opportunity to view an array of van vendors and overland products. \nIn addition to all of the great van builds the event will feature live music\, food and local brews all weekend long. And those looking to show off their custom builds are encouraged to sign up for the DYI Contest where they will have their rigs viewed by hundreds of event goers and rated by van build experts. \nLooking to buy or sell? Expect to find roof racks\, bumpers\, solar panels\, interior storage\, water filters\, window coverings\, beds\, bedding\, and 4×4 recovery items….and of course coffee cups\, t-shirts and more! \nLIVE MUSIC \nHang out on Saturday & Sunday for local beats by a great lineup of live music. More info coming soon! \nDIY CONTEST \nShow us what you built! Display your work during our van buildout DIY Contest on Saturday\, which will be viewed by hundreds of event goers and rated by van build experts. The builds will be judged on three different categories\, Fit-n-Finish\, Most Creative/Unique and Best Layout. \nFind out more about the DIY Contest here! \nAdventure Van Expo
URL:https://nomadevents.info/event/adventure-van-expo-north-tahoe-lake-ca/
CATEGORIES:West
ORGANIZER;CN="Adventure Van Expo":MAILTO:neil@adventurevanexpo.com
END:VEVENT
BEGIN:VEVENT
DTSTART;VALUE=DATE:20211230
DTEND;VALUE=DATE:20220103
DTSTAMP:20260424T153716
CREATED:20211231T224653Z
LAST-MODIFIED:20211231T224653Z
UID:184-1640822400-1641167999@nomadevents.info
SUMMARY:Burning Van - Borrego Springs\, CA
DESCRIPTION:3rd annual Vanlife & Nomadic folk New Years eve party with fire\, entertainment\, arts & crafts\, and community.\n\n\n\n\n\nAbout this event\n\n\nCome join other vanlifers & nomadic folk as we ring in the new year by burning the wooden van effigy. All are welcome to attend\, this is an all ages event. This is a pack it in/out event\, be ready to camp. If you have arts & crafts or anything to sell\, please purchase a vendor ticket. If you have a unique talent or are a musician and would like to perform reach out to me and I’ll put you on the schedule. This is a DOG friendly event\, please keep your dog on a leash. \nSchedule: \nThursday: arrive\, set up camp\, meet and greet\, entertainment TBD \nFriday: Potluck\, talent show\, burning of the van at midnight\, entertainment TBD \nSaturday: Sunrise trip to Fonts Point (4 x 4 recommended\, weather permitting)\, various vanlife workshops TBD\, entertainment TBD. \nSunday: pack out\, leave no trace. \nDirections here: \nFrom Highway 78\, head down Split Mountain Road roughly 8.3 miles. You will see railroad tracks just before the gypsum mine. Go to the left on the dirt road that follows the railroad tracks east. The event will be roughly 2 miles down that dirt road. Look for the big California Flag. Safe travels and see you soon. \nCoordinates: 33.04156\, -116.06557 (ish)
URL:https://nomadevents.info/event/burning-van-borrego-springs-ca/
LOCATION:Burning Van\, 7801 Split Mountain Road\, Borrego Springs\, CA\, 92004
CATEGORIES:West
END:VEVENT
BEGIN:VEVENT
DTSTART;VALUE=DATE:20211016
DTEND;VALUE=DATE:20211018
DTSTAMP:20260424T153716
CREATED:20210913T220144Z
LAST-MODIFIED:20210913T220144Z
UID:49-1634342400-1634515199@nomadevents.info
SUMMARY:Adventure Van Expo Series 2021 CA
DESCRIPTION:Adventure Van Expo Series 2021 \nShop\, stroll\, and check out killer vans and amazing builds! \nEvents have a small fee (18 and over) and open to anyone. \nWe are centered around vans but there will be 4×4 rigs and more: \nCome see the gear\, racks\, roof top tents\, trailer tents and accessories \nMeet professional adventure vehicle builders and see their products on display \nNetwork with like minds\, special parking in “Van Row” for van owners-first come come first serve.  \nFood and Beer (where possible) \nProduct Demonstrations\, Workshops \nAll events are near fun things to do\, on bike paths\, near biking\, hiking \nShows run Saturday\, 10 a.m. to 5 p.m. and Sunday\, 10 a.m. to 3 p.m.
URL:https://nomadevents.info/event/adventure-van-expo-series-2021-ca/
CATEGORIES:West
END:VEVENT
BEGIN:VEVENT
DTSTART;VALUE=DATE:20210918
DTEND;VALUE=DATE:20210920
DTSTAMP:20260424T153716
CREATED:20210914T005954Z
LAST-MODIFIED:20210914T005954Z
UID:67-1631923200-1632095999@nomadevents.info
SUMMARY:Adventure Van Expo CA
DESCRIPTION:Lake Tahoe\, CA\nSept. 18-19\, 2021 Homewood Ski Resort\n5145 W Lake Blvd\, Homewood\, CA 96141 \nSaturday: 10 a.m. to 5 p.m.\nSunday: 10 a.m. to 3 p.m. \nWe are back to our beloved Homewood\, for the 4th annual show!\nCome check out the incredible van builds\, open house vans\, vans\, and more vans! This year we will have Airstream\, Winnebago\, Tourig\, El Kapitan\, RB\, Paradigm. Specialized Bike\, Thule\, 4 wheel Camper\, accessories to buy for your van. Food\, beverage and live music. Located right on the bike path and across from Lake Tahoe. \nPlease no camp fires\, BBQs Gas or Charcoal! We are in a high fire danger area. \nWe will have camping at the venue this year! Bands Friday\, Saturday and Sunday! \nHeadliner is Scott Pemberton O Theory. \nWe are going to have 12 DIY rigs that will be on display and win prizes(soldout)! See the prize contributors below. \nadventurevanexpo.com/diy/raffle-contest \nOur lodging Partners: \nPepper Tree Inn and Basecamp in Tahoe City 530-580-8430 \nGranlibakken Tahoe Conference Center west shore 530-583-4242 \nCAMPING IS SOLD OUT*
URL:https://nomadevents.info/event/adventure-van-expo-ca/
LOCATION:Homewood Ski Resort\, 5145 W Lake Blvd\, Homewood\, CA\, 961451\, United States
CATEGORIES:West
ORGANIZER;CN="Adventure Van Expo":MAILTO:neil@adventurevanexpo.com
END:VEVENT
END:VCALENDAR